BEGIN:VCALENDAR
VERSION:2.0
PRODID:-//150jaar Kloosterdorp Steyl - ECPv6.15.20//NONSGML v1.0//EN
CALSCALE:GREGORIAN
METHOD:PUBLISH
X-WR-CALNAME:150jaar Kloosterdorp Steyl
X-ORIGINAL-URL:https://steyl150.nl/de
X-WR-CALDESC:Veranstaltungen für 150jaar Kloosterdorp Steyl
REFRESH-INTERVAL;VALUE=DURATION:PT1H
X-Robots-Tag:noindex
X-PUBLISHED-TTL:PT1H
BEGIN:VTIMEZONE
TZID:Europe/Amsterdam
BEGIN:DAYLIGHT
TZOFFSETFROM:+0100
TZOFFSETTO:+0200
TZNAME:CEST
DTSTART:20240331T010000
END:DAYLIGHT
BEGIN:STANDARD
TZOFFSETFROM:+0200
TZOFFSETTO:+0100
TZNAME:CET
DTSTART:20241027T010000
END:STANDARD
BEGIN:DAYLIGHT
TZOFFSETFROM:+0100
TZOFFSETTO:+0200
TZNAME:CEST
DTSTART:20250330T010000
END:DAYLIGHT
BEGIN:STANDARD
TZOFFSETFROM:+0200
TZOFFSETTO:+0100
TZNAME:CET
DTSTART:20251026T010000
END:STANDARD
BEGIN:DAYLIGHT
TZOFFSETFROM:+0100
TZOFFSETTO:+0200
TZNAME:CEST
DTSTART:20260329T010000
END:DAYLIGHT
BEGIN:STANDARD
TZOFFSETFROM:+0200
TZOFFSETTO:+0100
TZNAME:CET
DTSTART:20261025T010000
END:STANDARD
END:VTIMEZONE
BEGIN:VEVENT
DTSTART;TZID=Europe/Amsterdam:20250907T103000
DTEND;TZID=Europe/Amsterdam:20250907T170000
DTSTAMP:20260419T163843
CREATED:20250318T093405Z
LAST-MODIFIED:20250916T090139Z
UID:552-1757241000-1757264400@steyl150.nl
SUMMARY:Steylerdag 2025
DESCRIPTION:Op zondag 7 september 2025 opent het historische kloosterdorp Steyl opnieuw haar deuren voor de 7e editie van de Steylerdag. Dit bijzondere evenement\, georganiseerd door Stichting Stijlvol Steyl ’83 in samenwerking met Stichting Steyl Inspireert en vele lokale verenigingen\, organisaties\, bedrijven en kloosterordes\, belooft een dag vol cultuur\, geschiedenis en gezelligheid. \nSteylerdag is een unieke gelegenheid om het kloosterdorp op zijn mooist te beleven. Alle musea en ateliers zijn gratis toegankelijk\, en er is een breed aanbod aan activiteiten voor jong en oud. Denk aan inspirerende exposities\, muzikale optredens\, kunst en creatieve workshops. Ook voor kinderen zijn er tal van leuke activiteiten\, en de lokale horeca draagt bij aan de gastvrije sfeer. \nMet voorgaande edities die tot wel 10.000 bezoekers trokken\, wordt Steylerdag 2025 extra bijzonder vanwege het jubileumjaar. De Steylerdag blijft trouw aan het succesvolle ééndaagse concept op de eerste zondag van september\, maar pakt dit keer uit met nieuwe verrassende activiteiten. \nProgramma \nOm 11.00 uur vindt het openingsconcert plaats in het Schutterijmuseum door Zv. Vriendenkring en Animo Happy Voices. \nMusea\n• Schutterijmuseum: vanaf 13.00 uur schieten voor de jeugd en verkleden als schutter.\n• Missiemuseum: groet de beer!\n• Wereldpaviljoen: bezoek Nicaragua en Ghana.\n• Ketelhuis: stoommachine in werking en tentoonstelling 150 jaar Techniek op Steyl.\n• Tiendschuur: rondleidingen om 13.30 en 15.00 uur. Aanmelden via www.tiendschuur.net\n• Kassen achter parkstraat: BOEi geeft toelichting over restauratie kassencomplex \nBraderie\nKleine braderie op de St. Michaëlstraat met lokale standhouders\, zoals o.a.:\n• De Heemkundekring\n• De Wereldwinkel\n• De IJsmannetjes\n• Werkgroep Sjteylerjeug\n• Feestjes Allerhand\n• Fonkelz – Kindercoaching & Ontspanning\n• Het kloosterteam met overheerlijke ‘‘Reibekuchen’’\, kloosterfriet en huisgemaakte cakejes.\n• Verkoop van het nieuwe boek: Wandeling door kloosterdorp Steyl\n• KVW Steyl met kinderactiviteiten zoals schminken en springkussen. \nTuinen en lokaal aanbod\n• De Botanische tuin Jochumhof aan de Veerweg voor rondleidingen door de tuin en verkoop van planten\, zaden en honing.\n• In de Kloostertuin aan de St. Michaëlstraat vind je Roberts kruidentuin\, Chris’ edelstenen en kunstkopjes\, IVN\, Heerenboeren\, Kruidelijkheid (herborist)\, Imkerij ‘t Höltje en Chantals Plökblome.\n• Ook vind je in deze Kloostertuin de oude kassen die komend jaar worden gerestaureerd. Er is een mini-expositie te zien over de geschiedenis van deze kassen en het gebruik door de jaren heen.\n• Achter het Wereldpaviljoen staat Vv. De Kaetelaers met diverse activiteiten\, waaronder schminken als duuvelke\, rondleiding op de Duuvelswagen\, en meet en greet met Vors Lucifer 2025.\n• Achter Vv. De Kaetelaers\, richting de Kloostertuin\, staat brandweer Belfeld met hun brandweerwagen. Ze vertellen je graag meer over hun werk en kinderen mogen hier zelf met de brandslangen spuiten! \nHuifkar\nOntdek Steyl vanuit de huifkar die de hele dag door het kloosterdorp rijdt. \nAteliers\n• Kuhlmann Kunst Galerie\, Waterloostraat.\n• Rein Derks\, Waterloostraat.\n• Atelier Maashoek\, Maashoek.\n• Pottenbakkerij Hoogland\, Parkstraat.\n• Pim van Huisseling\, Parkstraat.\n• Els Winter\, Parkstraat.\n• Galerie Zeemeermin\, in de Kloostertuin aan de St. Michaëlstraat. \nKloosters\n• De Blauwe Zusters op de Zusterstraat geven tussen 13.00 en 17.00 uur om de 20 minuten\nrondleidingen. Vol = vol.\n• De Roze Zusters op de Kloosterstraat gaan om 10.30 en 16.00 uur in gesprek met groepen van 20 personen. Vol = vol.\n• De Steyler Missionarissen (SVD) vind je in het Missiehuis aan de St. Michaëlstraat. De boven- en\nbenedenkerk zijn vanaf 12.00 uur geopend.\n• In de aula van het Missiehuis kun je vanaf 12.00 uur de tentoonstelling STEYLER bezoeken.\n• In de Iconenzaal van het Missiehuis vindt om 11.00 uur en om 12.00 uur een presentatie plaats over de rijke geschiedenis van Steyl. \nHoreca\n• De Jochumhof: terras aan de Maas.\n• ‘T Vaerhoés: terras op het Museumplein.\n• Friture ‘t Vaer: voor de lekkerste friet.\n• Café Quatre Bras: café met terras en Steylerdag afterparty.\n• Zaal Vriendenkring: spirituele beurs en terras.\n• Kloosterbrouwerij Steyl: proeven en genieten van Steyler speciaalbieren. \nMuziek\, theater en dans\n• Live bands op het pleintje achter het wereldmuseum:  O Double Seven (1245)\, Frontstage (14:00)\, Sunset Cinema (15:15)\, Circle of Blame (16:30)\n• V.E. Campanella zingt om 13.00 uur in de benedenkerk.\n• Pop/rock bandjes The Beagles\, Tuesday\, Refresh en Tranquil spelen op het Museumplein.\n• Muziekgezelschap Tuûnke Liëger vult het Museumplein met muziek en sfeer.\n• PCB Sixties Band speelt op het terras bij het Wereldpaviljoen.\n• De Boerejoekskapel zorgt voor vrolijke klanken op het Museumplein.\n• Dansgarde danst op het Museumplein.\n• Open dag op de Toet Tout Theater\, Toeverschool Kloosterstraat 6 \n 
URL:https://steyl150.nl/de/programma/552/
LOCATION:Kloosterdorp Steyl\, Sint Michaëlstraat 7\, Steyl\, 5935 BL\, Netherlands
ATTACH;FMTTYPE=image/jpeg:https://steyl150.nl/wp-content/uploads/2025/03/Schermopname_4-8-2025_104622_.jpeg
END:VEVENT
END:VCALENDAR