BEGIN:VCALENDAR
VERSION:2.0
PRODID:-//150jaar Kloosterdorp Steyl - ECPv6.15.20//NONSGML v1.0//EN
CALSCALE:GREGORIAN
METHOD:PUBLISH
X-WR-CALNAME:150jaar Kloosterdorp Steyl
X-ORIGINAL-URL:https://steyl150.nl/de
X-WR-CALDESC:Veranstaltungen für 150jaar Kloosterdorp Steyl
REFRESH-INTERVAL;VALUE=DURATION:PT1H
X-Robots-Tag:noindex
X-PUBLISHED-TTL:PT1H
BEGIN:VTIMEZONE
TZID:Europe/Amsterdam
BEGIN:DAYLIGHT
TZOFFSETFROM:+0100
TZOFFSETTO:+0200
TZNAME:CEST
DTSTART:20240331T010000
END:DAYLIGHT
BEGIN:STANDARD
TZOFFSETFROM:+0200
TZOFFSETTO:+0100
TZNAME:CET
DTSTART:20241027T010000
END:STANDARD
BEGIN:DAYLIGHT
TZOFFSETFROM:+0100
TZOFFSETTO:+0200
TZNAME:CEST
DTSTART:20250330T010000
END:DAYLIGHT
BEGIN:STANDARD
TZOFFSETFROM:+0200
TZOFFSETTO:+0100
TZNAME:CET
DTSTART:20251026T010000
END:STANDARD
BEGIN:DAYLIGHT
TZOFFSETFROM:+0100
TZOFFSETTO:+0200
TZNAME:CEST
DTSTART:20260329T010000
END:DAYLIGHT
BEGIN:STANDARD
TZOFFSETFROM:+0200
TZOFFSETTO:+0100
TZNAME:CET
DTSTART:20261025T010000
END:STANDARD
END:VTIMEZONE
BEGIN:VEVENT
DTSTART;TZID=Europe/Amsterdam:20250927T193000
DTEND;TZID=Europe/Amsterdam:20250927T213000
DTSTAMP:20260420T012959
CREATED:20250620T114110Z
LAST-MODIFIED:20250826T074452Z
UID:1002-1759001400-1759008600@steyl150.nl
SUMMARY:Film\, muziek\, dans en verhalen: Wat Je Nooit Zei
DESCRIPTION:Multidisciplinaire voorstelling\, bestaande uit 30 minuten docufilm\, traditionele Molukse live-muziek\, filmmuziek en traditionele Molukse dans. \nWat Je Nooit Zei – Storytelling Editie is een indringende\, multidisciplinaire voorstelling waarin documentaire\, live-muziek\, Molukse traditionele dans en storytelling samenkomen. Deze vorm ontstond niet uit ambitie\, maar uit noodzaak. De broers en zus Pieck vonden in kunst een taal om datgene uit te drukken waarvoor woorden tekortschoten. Centraal staat de gelijknamige documentaire van filmmaker Saul Pieck over zijn Molukse vader. Voor het eerst gaat hij met hem in gesprek over pijn\, trauma en stilte. De film is een zoektocht naar begrip en verbinding en laat de onuitgesproken emoties tussen vader en zoon op rauwe wijze zien. \nOp het podium verweven Tasilo & Nico Pieck de live-filmmuziek met persoonlijke vertellingen. Ebby van Holland-Pieck neemt de danschoreografieën voor haar rekening.\n“Ale rasa\, beta rasa” – “Wat jij voelt\, voel ik ook.” \nDoor hun gedeelde verhaal te vertalen naar film\, muziek en beweging\, nemen de Piecks het publiek mee in een intiem familieportret\, een ode aan veerkracht\, afkomst en het verlangen om gezien te worden. \nEen film van Saul Pieck\nStorytelling door Tasilo Pieck\nLivemuziek door Tasilo Pieck & Nico Pieck\nDans en choreografie door Ebby van Holland-Pieck \nTickets à 10\,00 zijn te koop in de webshop van het Wereldpaviljoen. \n 
URL:https://steyl150.nl/de/programma/film-muziek-dans-en-verhalen-wat-je-nooit-zei/
LOCATION:Wereldpaviljoen\, Sint Michaëlstraat 6a\, Steyl\, 5935 BL
ATTACH;FMTTYPE=image/jpeg:https://steyl150.nl/wp-content/uploads/2025/06/Wat-je-nooit-ze-Dans-hoog-scaled.jpg
END:VEVENT
END:VCALENDAR