BEGIN:VCALENDAR
VERSION:2.0
PRODID:-//150jaar Kloosterdorp Steyl - ECPv6.15.20//NONSGML v1.0//EN
CALSCALE:GREGORIAN
METHOD:PUBLISH
X-WR-CALNAME:150jaar Kloosterdorp Steyl
X-ORIGINAL-URL:https://steyl150.nl/de
X-WR-CALDESC:Veranstaltungen für 150jaar Kloosterdorp Steyl
REFRESH-INTERVAL;VALUE=DURATION:PT1H
X-Robots-Tag:noindex
X-PUBLISHED-TTL:PT1H
BEGIN:VTIMEZONE
TZID:Europe/Amsterdam
BEGIN:DAYLIGHT
TZOFFSETFROM:+0100
TZOFFSETTO:+0200
TZNAME:CEST
DTSTART:20240331T010000
END:DAYLIGHT
BEGIN:STANDARD
TZOFFSETFROM:+0200
TZOFFSETTO:+0100
TZNAME:CET
DTSTART:20241027T010000
END:STANDARD
BEGIN:DAYLIGHT
TZOFFSETFROM:+0100
TZOFFSETTO:+0200
TZNAME:CEST
DTSTART:20250330T010000
END:DAYLIGHT
BEGIN:STANDARD
TZOFFSETFROM:+0200
TZOFFSETTO:+0100
TZNAME:CET
DTSTART:20251026T010000
END:STANDARD
BEGIN:DAYLIGHT
TZOFFSETFROM:+0100
TZOFFSETTO:+0200
TZNAME:CEST
DTSTART:20260329T010000
END:DAYLIGHT
BEGIN:STANDARD
TZOFFSETFROM:+0200
TZOFFSETTO:+0100
TZNAME:CET
DTSTART:20261025T010000
END:STANDARD
END:VTIMEZONE
BEGIN:VEVENT
DTSTART;TZID=Europe/Amsterdam:20251025T124500
DTEND;TZID=Europe/Amsterdam:20251025T134500
DTSTAMP:20260420T135905
CREATED:20251010T185025Z
LAST-MODIFIED:20251010T185025Z
UID:1116-1761396300-1761399900@steyl150.nl
SUMMARY:Filmvoorstelling Soulcarries of the Sepik
DESCRIPTION:de houtsnijwerken van SVD broeder Wiel Swinkels\nDanielle Lemaire – 2025 \nDUUR\n40 minuten \nINFO\nEen film van Danielle Lemaire gebaseerd op haar ontmoeting met SVD-broeder Wiel Swinkels. Die meer dan vijftig jaar als missionaris aan de Sepik\, Papoea-New-Guinea\, werkzaam was\, en de reis van zijn houtsnijwerken. \nLEEFTIJD\nvanaf 12 jaar \nTOEGANGSPRIJS\n€8\,50 incl. entree museum + film\nMuseumkaart geldig \nKoop hier snel je ticket \nVERZAMELPUNT\nEntree Missiemuseum | aansluitend naar locatie St. Gregor.
URL:https://steyl150.nl/de/programma/filmvoorstelling-soulcarries-of-the-sepik/
LOCATION:Missiemuseum\, Veerweg 6\, 5935 BK
ATTACH;FMTTYPE=image/jpeg:https://steyl150.nl/wp-content/uploads/2025/10/PHOTO-2025-10-10-12-09-12.jpg
END:VEVENT
END:VCALENDAR