BEGIN:VCALENDAR
VERSION:2.0
PRODID:-//150jaar Kloosterdorp Steyl - ECPv6.15.20//NONSGML v1.0//EN
CALSCALE:GREGORIAN
METHOD:PUBLISH
X-WR-CALNAME:150jaar Kloosterdorp Steyl
X-ORIGINAL-URL:https://steyl150.nl/de
X-WR-CALDESC:Veranstaltungen für 150jaar Kloosterdorp Steyl
REFRESH-INTERVAL;VALUE=DURATION:PT1H
X-Robots-Tag:noindex
X-PUBLISHED-TTL:PT1H
BEGIN:VTIMEZONE
TZID:Europe/Amsterdam
BEGIN:DAYLIGHT
TZOFFSETFROM:+0100
TZOFFSETTO:+0200
TZNAME:CEST
DTSTART:20240331T010000
END:DAYLIGHT
BEGIN:STANDARD
TZOFFSETFROM:+0200
TZOFFSETTO:+0100
TZNAME:CET
DTSTART:20241027T010000
END:STANDARD
BEGIN:DAYLIGHT
TZOFFSETFROM:+0100
TZOFFSETTO:+0200
TZNAME:CEST
DTSTART:20250330T010000
END:DAYLIGHT
BEGIN:STANDARD
TZOFFSETFROM:+0200
TZOFFSETTO:+0100
TZNAME:CET
DTSTART:20251026T010000
END:STANDARD
BEGIN:DAYLIGHT
TZOFFSETFROM:+0100
TZOFFSETTO:+0200
TZNAME:CEST
DTSTART:20260329T010000
END:DAYLIGHT
BEGIN:STANDARD
TZOFFSETFROM:+0200
TZOFFSETTO:+0100
TZNAME:CET
DTSTART:20261025T010000
END:STANDARD
END:VTIMEZONE
BEGIN:VEVENT
DTSTART;TZID=Europe/Amsterdam:20250913T133000
DTEND;TZID=Europe/Amsterdam:20250913T210000
DTSTAMP:20260419T194818
CREATED:20250318T131116Z
LAST-MODIFIED:20250626T070455Z
UID:620-1757770200-1757797200@steyl150.nl
SUMMARY:Korenroute Steyl
DESCRIPTION:Tijdens een bijzondere concertmiddag klinken de stemmen van zeven koren uit groot Venlo op drie unieke locaties in Steyl: de Benedenkerk en de Bovenkerk van de missionarissen\, én de kerk van de Blauwe Zusters. Een muzikaal programma vol afwisseling en sfeer\, midden in het hart van het kloosterdorp. \nDe deelnemende koren zijn: Zangvereniging Vriendenkring Steyl\, Animo Steyl ‘33\, Vocaal Ensemble Campanella\, de Tegelse Hofzangers\, Vocaal Ensemble Quint\, St. Martinuskoor Venlo en Mannenkoor Venlona uit Venlo. Elk koor verzorgt een optreden van circa een half uur op een van de aangegeven locaties\, waardoor bezoekers een muzikale route door de missiehuizen kunnen beleven. \nTijdstip en locatie:\n13.30-14.30   Animo Steyl ’33 – De Tegelse Hofzangers.\nLocatie: Benedenkerk Missiehuis.\nInloop bezoekers 13.00 uur. Sint Michaëlstraat 7\, Steyl. \n15.00-16.00  Mannenkoor Venlona – Vocaal Ensemble Campanella.\nLocatie: kerk van de Blauwe zusters. Zusterstraat 20\, Steyl.\nInloop bezoekers: 14.30 uur. \n16.30-18.00  Zangvereniging Vriendenkring – St. Martinuskoor – Vocaal Ensemble Quint.\nLocatie: Bovenkerk Missiehuis. Sint Michaëlstraat 7\, Steyl.\nInloop bezoekers: 16.00 uur. \nNa afloop is er ruimte voor ontmoeting en gezelligheid in het Schutterijmuseum van 18.30 tot 21.00 uur. \nHier kunnen de deelnemende koren geheel vrijblijvend een aantal informele optredens verzorgen onder het genot van een drankje.
URL:https://steyl150.nl/de/programma/korenroute-steyl/
LOCATION:Kloosterdorp Steyl\, Sint Michaëlstraat 7\, Steyl\, 5935 BL\, Netherlands
ATTACH;FMTTYPE=image/jpeg:https://steyl150.nl/wp-content/uploads/2025/03/JFF_Y231265-scaled.jpg
END:VEVENT
END:VCALENDAR