BEGIN:VCALENDAR
VERSION:2.0
PRODID:-//150jaar Kloosterdorp Steyl - ECPv6.15.20//NONSGML v1.0//EN
CALSCALE:GREGORIAN
METHOD:PUBLISH
X-WR-CALNAME:150jaar Kloosterdorp Steyl
X-ORIGINAL-URL:https://steyl150.nl/de
X-WR-CALDESC:Veranstaltungen für 150jaar Kloosterdorp Steyl
REFRESH-INTERVAL;VALUE=DURATION:PT1H
X-Robots-Tag:noindex
X-PUBLISHED-TTL:PT1H
BEGIN:VTIMEZONE
TZID:Europe/Amsterdam
BEGIN:DAYLIGHT
TZOFFSETFROM:+0100
TZOFFSETTO:+0200
TZNAME:CEST
DTSTART:20240331T010000
END:DAYLIGHT
BEGIN:STANDARD
TZOFFSETFROM:+0200
TZOFFSETTO:+0100
TZNAME:CET
DTSTART:20241027T010000
END:STANDARD
BEGIN:DAYLIGHT
TZOFFSETFROM:+0100
TZOFFSETTO:+0200
TZNAME:CEST
DTSTART:20250330T010000
END:DAYLIGHT
BEGIN:STANDARD
TZOFFSETFROM:+0200
TZOFFSETTO:+0100
TZNAME:CET
DTSTART:20251026T010000
END:STANDARD
BEGIN:DAYLIGHT
TZOFFSETFROM:+0100
TZOFFSETTO:+0200
TZNAME:CEST
DTSTART:20260329T010000
END:DAYLIGHT
BEGIN:STANDARD
TZOFFSETFROM:+0200
TZOFFSETTO:+0100
TZNAME:CET
DTSTART:20261025T010000
END:STANDARD
END:VTIMEZONE
BEGIN:VEVENT
DTSTART;TZID=Europe/Amsterdam:20250928T103000
DTEND;TZID=Europe/Amsterdam:20250928T123000
DTSTAMP:20260420T032050
CREATED:20250915T133033Z
LAST-MODIFIED:20250915T135540Z
UID:1099-1759055400-1759062600@steyl150.nl
SUMMARY:Matinee Vredesconcert en opening tentoonstelling 80 jaar Vrede en Vriendschap
DESCRIPTION:LIMBURGS SCHUTTERIJ MUSEUM Rozenstraat 18 Steyl\n10.30u inloop 11.00u start concert\nm.m.v. Koninklijke Zangvereniging Venlona\, KoSiMi Nettetal\, Venlo Caledonian Pipe Band\, Santa Fe (voertuigen) \nDeze activiteit maakt deel uit van het project Euregionale Korensamenwerking en wordt mede mogelijk gemaakt door het Interreg Programma Deutschland-Nederland en de Europese Unie (EU).
URL:https://steyl150.nl/de/programma/matinee-vredesconcert-en-opening-tentoonstelling-80-jaar-vrede-en-vriendschap/
LOCATION:Limburgs Schutterij Museum\, Rozenstraat 18\, Steyl\, 5935 AN
ATTACH;FMTTYPE=image/jpeg:https://steyl150.nl/wp-content/uploads/2025/09/Schermopname_15-9-2025_15293_.jpeg
END:VEVENT
END:VCALENDAR