BEGIN:VCALENDAR
VERSION:2.0
PRODID:-//150jaar Kloosterdorp Steyl - ECPv6.15.20//NONSGML v1.0//EN
CALSCALE:GREGORIAN
METHOD:PUBLISH
X-WR-CALNAME:150jaar Kloosterdorp Steyl
X-ORIGINAL-URL:https://steyl150.nl/de
X-WR-CALDESC:Veranstaltungen für 150jaar Kloosterdorp Steyl
REFRESH-INTERVAL;VALUE=DURATION:PT1H
X-Robots-Tag:noindex
X-PUBLISHED-TTL:PT1H
BEGIN:VTIMEZONE
TZID:Europe/Amsterdam
BEGIN:DAYLIGHT
TZOFFSETFROM:+0100
TZOFFSETTO:+0200
TZNAME:CEST
DTSTART:20240331T010000
END:DAYLIGHT
BEGIN:STANDARD
TZOFFSETFROM:+0200
TZOFFSETTO:+0100
TZNAME:CET
DTSTART:20241027T010000
END:STANDARD
BEGIN:DAYLIGHT
TZOFFSETFROM:+0100
TZOFFSETTO:+0200
TZNAME:CEST
DTSTART:20250330T010000
END:DAYLIGHT
BEGIN:STANDARD
TZOFFSETFROM:+0200
TZOFFSETTO:+0100
TZNAME:CET
DTSTART:20251026T010000
END:STANDARD
BEGIN:DAYLIGHT
TZOFFSETFROM:+0100
TZOFFSETTO:+0200
TZNAME:CEST
DTSTART:20260329T010000
END:DAYLIGHT
BEGIN:STANDARD
TZOFFSETFROM:+0200
TZOFFSETTO:+0100
TZNAME:CET
DTSTART:20261025T010000
END:STANDARD
END:VTIMEZONE
BEGIN:VEVENT
DTSTART;TZID=Europe/Amsterdam:20251115T193000
DTEND;TZID=Europe/Amsterdam:20251115T213000
DTSTAMP:20260420T184504
CREATED:20250620T115015Z
LAST-MODIFIED:20250620T115015Z
UID:1007-1763235000-1763242200@steyl150.nl
SUMMARY:Muziekvoorstelling Luuk Lenders
DESCRIPTION:Luuk Lenders staat bekend om zijn creatieve volksmuziek met Ierse whistles\, ocarina’s\, accordeon\, voetenpercussie\, tafelbellen en pingpongballen.\nSoms speelt hij zelfs drie of vier instrumenten tegelijkertijd! Als deze muzikale duizendpoot op het podium staat neemt hij het publiek mee in een wervelwind van creativiteit\, humor en prachtige muziek.\nZijn liefde voor Ierse\, Schotse en Nederlandse volksmuziek klinkt door in elke noot die hij uit zijn instrumenten tovert.\nNaast volksmuziek van de bovenste plank zorgt Luuk ook altijd weer voor verrassende intermezzo’s op onverwachte attributen. \nTickets à 7\,50 zijn te koop in de webshop van het Wereldpaviljoen
URL:https://steyl150.nl/de/programma/muziekvoorstelling-luuk-lenders/
LOCATION:Wereldpaviljoen\, Sint Michaëlstraat 6a\, Steyl\, 5935 BL
ATTACH;FMTTYPE=image/jpeg:https://steyl150.nl/wp-content/uploads/2025/06/Luuk-Lenders.jpg
END:VEVENT
END:VCALENDAR