BEGIN:VCALENDAR
VERSION:2.0
PRODID:-//150jaar Kloosterdorp Steyl - ECPv6.15.20//NONSGML v1.0//EN
CALSCALE:GREGORIAN
METHOD:PUBLISH
X-WR-CALNAME:150jaar Kloosterdorp Steyl
X-ORIGINAL-URL:https://steyl150.nl/de
X-WR-CALDESC:Veranstaltungen für 150jaar Kloosterdorp Steyl
REFRESH-INTERVAL;VALUE=DURATION:PT1H
X-Robots-Tag:noindex
X-PUBLISHED-TTL:PT1H
BEGIN:VTIMEZONE
TZID:Europe/Amsterdam
BEGIN:DAYLIGHT
TZOFFSETFROM:+0100
TZOFFSETTO:+0200
TZNAME:CEST
DTSTART:20240331T010000
END:DAYLIGHT
BEGIN:STANDARD
TZOFFSETFROM:+0200
TZOFFSETTO:+0100
TZNAME:CET
DTSTART:20241027T010000
END:STANDARD
BEGIN:DAYLIGHT
TZOFFSETFROM:+0100
TZOFFSETTO:+0200
TZNAME:CEST
DTSTART:20250330T010000
END:DAYLIGHT
BEGIN:STANDARD
TZOFFSETFROM:+0200
TZOFFSETTO:+0100
TZNAME:CET
DTSTART:20251026T010000
END:STANDARD
BEGIN:DAYLIGHT
TZOFFSETFROM:+0100
TZOFFSETTO:+0200
TZNAME:CEST
DTSTART:20260329T010000
END:DAYLIGHT
BEGIN:STANDARD
TZOFFSETFROM:+0200
TZOFFSETTO:+0100
TZNAME:CET
DTSTART:20261025T010000
END:STANDARD
END:VTIMEZONE
BEGIN:VEVENT
DTSTART;TZID=Europe/Amsterdam:20251113T090000
DTEND;TZID=Europe/Amsterdam:20251113T173000
DTSTAMP:20260420T171241
CREATED:20250922T095021Z
LAST-MODIFIED:20250922T095021Z
UID:1109-1763024400-1763055000@steyl150.nl
SUMMARY:Nationaal Monumentencongres
DESCRIPTION:Het Nationaal Monumentencongres vindt dit jaar plaats op donderdag 13 november 2025 in Kloosterdorp Steyl\, een bijzondere erfgoedlocatie met een rijke geschiedenis. \nThema: 150 jaar Monumentenzorg & Missiewerk\nIn 1875 begon in Nederland de officiële bescherming van monumenten met de oprichting van de afdeling Kunsten en Wetenschappen binnen het Ministerie van Binnenlandse Zaken. In datzelfde jaar werd in Steyl het missiehuis St. Michael gesticht – het begin van het kloosterdorp zoals we dat nu kennen. \nIn de 150 jaar daarna groeide Steyl uit tot een plek van wereldwijde betekenis dankzij het missiewerk\, met meerdere kloosters\, bijgebouwen en monumentale tuinen. Vandaag de dag staan sommige gebouwen leeg\, zoals het voormalige ziekenhuis en het zwembad. Tegelijkertijd zijn kloosters als St. Michael en het H. Hartklooster nog in gebruik – maar ook daar wordt nagedacht over nieuwe functies. \nSteyl is daarmee de perfecte plek om stil te staan bij de erfgoedmissie van toen\, nu en straks. Tijdens het congres verkennen we actuele vraagstukken zoals: \n– herbestemming en leegstand\,\n– integrale gebiedsontwikkeling\,\n– vakmanschap & restauratie\,\n– omgang oorspronkelijke museale verzamelingen\,\n– en het versterken van lokale betrokkenheid bij erfgoed. \nOpzet van de dag\nDe dag start met een plenair programma waarin we gezamenlijk het thema verkennen. In de middag verplaatsen we ons deels naar buiten: deelnemers kunnen kiezen uit verschillende excursies in en rondom het kloosterdorp Steyl\, gecombineerd met deelsessies op locatie. Zo brengen we kennis\, praktijk en omgeving met elkaar in verbinding. \n09:00 – 10:00 Inloop & registratie\n10:00 – 12:15 Plenair programma\n12:15 – 13:30 Lunch\n14:00 – 16:00 Deelsessies & excursies\n16:00 – 17:30 Borrel \nCongrestickets zijn hier te koop: https://www.monumentencongres.nl/tickets-1/
URL:https://steyl150.nl/de/programma/nationaal-monumentencongres/
ATTACH;FMTTYPE=image/jpeg:https://steyl150.nl/wp-content/uploads/2025/09/Steyl-dubbelkerk-2.jpg
END:VEVENT
END:VCALENDAR