BEGIN:VCALENDAR
VERSION:2.0
PRODID:-//150jaar Kloosterdorp Steyl - ECPv6.15.20//NONSGML v1.0//EN
CALSCALE:GREGORIAN
METHOD:PUBLISH
X-WR-CALNAME:150jaar Kloosterdorp Steyl
X-ORIGINAL-URL:https://steyl150.nl/de
X-WR-CALDESC:Veranstaltungen für 150jaar Kloosterdorp Steyl
REFRESH-INTERVAL;VALUE=DURATION:PT1H
X-Robots-Tag:noindex
X-PUBLISHED-TTL:PT1H
BEGIN:VTIMEZONE
TZID:Europe/Amsterdam
BEGIN:DAYLIGHT
TZOFFSETFROM:+0100
TZOFFSETTO:+0200
TZNAME:CEST
DTSTART:20240331T010000
END:DAYLIGHT
BEGIN:STANDARD
TZOFFSETFROM:+0200
TZOFFSETTO:+0100
TZNAME:CET
DTSTART:20241027T010000
END:STANDARD
BEGIN:DAYLIGHT
TZOFFSETFROM:+0100
TZOFFSETTO:+0200
TZNAME:CEST
DTSTART:20250330T010000
END:DAYLIGHT
BEGIN:STANDARD
TZOFFSETFROM:+0200
TZOFFSETTO:+0100
TZNAME:CET
DTSTART:20251026T010000
END:STANDARD
BEGIN:DAYLIGHT
TZOFFSETFROM:+0100
TZOFFSETTO:+0200
TZNAME:CEST
DTSTART:20260329T010000
END:DAYLIGHT
BEGIN:STANDARD
TZOFFSETFROM:+0200
TZOFFSETTO:+0100
TZNAME:CET
DTSTART:20261025T010000
END:STANDARD
END:VTIMEZONE
BEGIN:VEVENT
DTSTART;TZID=Europe/Amsterdam:20250913T110000
DTEND;TZID=Europe/Amsterdam:20250914T170000
DTSTAMP:20260419T214812
CREATED:20250620T104156Z
LAST-MODIFIED:20250820T130702Z
UID:987-1757761200-1757869200@steyl150.nl
SUMMARY:Steyl op Stoom Festival
DESCRIPTION:Zeer snel na de aankomst van Arnold Janssen in 1875 waren er aangedreven drukpersen nodig voor zijn drukkerij. Aandrijving door stoommachines en later een stoom turbine. \nIn het kader van de tentoonstelling 150 jaar Techniek op Steyl\, organiseert het Ketelhuis een tweetal gratis toegankelijke stoomdagen met meerdere full scale\, half scale en kleine op schaal gebouwde stoommachines. \nDe stoommachines zijn rijdend te bezichten op een delen van de St. Michaëlstraat\, Kloosterstraat en Parkstraat. Uiteraard is ook de eigen draaiende “religieuze” stoommachine (1909) en stoomturbine\, diverse stoom ketels/installatie en de bijbehorende 40 m hoge schoorsteen in het ketelhuis te zien. \nLocatie: Ketelhuis en omgeving\, Sint Michaëlstraat
URL:https://steyl150.nl/de/programma/steyl-op-stoom/
LOCATION:Ketelhuis\, Parkstraat 32\, Steyl\, 5935 BM
ATTACH;FMTTYPE=image/jpeg:https://steyl150.nl/wp-content/uploads/2025/06/Steyl-op-Stoom.jpg
END:VEVENT
END:VCALENDAR